BEGIN:VCALENDAR
VERSION:2.0
PRODID:-//Wayamo Foundation - ECPv6.0.13.1//NONSGML v1.0//EN
CALSCALE:GREGORIAN
METHOD:PUBLISH
X-WR-CALNAME:Wayamo Foundation
X-ORIGINAL-URL:https://www.wayamo.com
X-WR-CALDESC:Events for Wayamo Foundation
REFRESH-INTERVAL;VALUE=DURATION:PT1H
X-Robots-Tag:noindex
X-PUBLISHED-TTL:PT1H
BEGIN:VTIMEZONE
TZID:Europe/Berlin
BEGIN:DAYLIGHT
TZOFFSETFROM:+0100
TZOFFSETTO:+0200
TZNAME:CEST
DTSTART:20170326T010000
END:DAYLIGHT
BEGIN:STANDARD
TZOFFSETFROM:+0200
TZOFFSETTO:+0100
TZNAME:CET
DTSTART:20171029T010000
END:STANDARD
END:VTIMEZONE
BEGIN:VEVENT
DTSTART;VALUE=DATE:20171030
DTEND;VALUE=DATE:20171104
DTSTAMP:20260422T234909
CREATED:20171009T144156Z
LAST-MODIFIED:20181015T093706Z
UID:2671-1509321600-1509753599@www.wayamo.com
SUMMARY:The Africa Group mission to The Gambia
DESCRIPTION:From 31 October to 3 November 2017\, the Africa Group for Justice and Accountability (AGJA) and the Wayamo Foundation sent a fact-finding delegation to The Gambia. The delegation arrived in The Gambia in response to an invitation by Justice Minister Abubacarr Tambadou. Its aim was to understand the nature of The Gambia’s ongoing transition from authoritarian rule under former President Yahya Jammeh to democracy and the rule of law. Over a series of broad consultations with key stakeholders in the transitional process\, the delegation sought to understand the challenges and priorities regarding the achievement of justice and accountability in the country. The delegation was led by former Chief Justice of Tanzania\, Mohamed Chande Othman and included human rights advocate Fatiha Serour (Algeria) and Wayamo Foundation Deputy Director Mark Kersten (Canada). \nBased on the delegation’s consultations as well as ongoing research on the country’s transition conducted at the Wayamo Foundation\, the mission report offers a series of recommendations to authorities and officials in The Gambia as they continue to work on achieving justice and accountability and building a state that eagerly and effectively defends the rule of law and human rights. It is also expected that it will inform the work of the Wayamo Foundation\, AGJA and other partners interested in further supporting The Gambia’s transition process.
URL:https://www.wayamo.com/event/the-africa-group-mission-to-the-gambia/
LOCATION:The Gambia\, Banjul\, Gambia
ATTACH;FMTTYPE=image/jpeg:https://www.wayamo.com/wp-content/uploads/2017/11/Minister-of-Justice.jpg
END:VEVENT
END:VCALENDAR