BEGIN:VCALENDAR
VERSION:2.0
PRODID:-//Wayamo Foundation - ECPv6.0.13.1//NONSGML v1.0//EN
CALSCALE:GREGORIAN
METHOD:PUBLISH
X-WR-CALNAME:Wayamo Foundation
X-ORIGINAL-URL:https://www.wayamo.com
X-WR-CALDESC:Events for Wayamo Foundation
REFRESH-INTERVAL;VALUE=DURATION:PT1H
X-Robots-Tag:noindex
X-PUBLISHED-TTL:PT1H
BEGIN:VTIMEZONE
TZID:Europe/Berlin
BEGIN:DAYLIGHT
TZOFFSETFROM:+0100
TZOFFSETTO:+0200
TZNAME:CEST
DTSTART:20170326T010000
END:DAYLIGHT
BEGIN:STANDARD
TZOFFSETFROM:+0200
TZOFFSETTO:+0100
TZNAME:CET
DTSTART:20171029T010000
END:STANDARD
END:VTIMEZONE
BEGIN:VEVENT
DTSTART;VALUE=DATE:20170605
DTEND;VALUE=DATE:20170609
DTSTAMP:20260423T093025
CREATED:20170604T085053Z
LAST-MODIFIED:20181015T093529Z
UID:2596-1496620800-1496966399@www.wayamo.com
SUMMARY:International Symposium: “Fighting Impunity in East Africa – Ensuring accountability for international and transnational organised crimes”
DESCRIPTION:Arusha played host to an international symposium at the Mount Meru Hotel on 6 June 2017. The symposium aimed at exploring the current state of international criminal justice\, its links with transnational organised crime\, and national and regional efforts to deal with these crimes across East Africa. The event welcomed some 80 experts on international and transnational criminal law\, academics\, legal practitioners\, the media and civil society organisations from across Africa and other parts of the world. \nClick here for Symposium Report. \nAs part of the project’s launch activities\, the Wayamo Foundation facilitated the first network meeting of Directors of Public Prosecution and Heads of Criminal Investigation Departments\, as well as a two-day training session for prosecutors and investigators from Kenya\, Rwanda\, Tanzania and Uganda. By enhancing knowledge in the areas of the investigation and prosecution of international and transnational crimes\, with special sessions on cyber-crime and financial crimes\, the ultimate goal of such training is to build competency to address these crimes domestically.
URL:https://www.wayamo.com/event/international-symposium-fighting-impunity-in-east-africa-ensuring-accountability-for-international-and-transnational-organised-crimes/
LOCATION:Tanzania\, Kanisa Road\, Arusha\, Tanzania\, United Republic Of
ATTACH;FMTTYPE=image/jpeg:https://www.wayamo.com/wp-content/uploads/2017/06/7_Wayamo-AGJA-Report_igel.tech_.jpg
END:VEVENT
END:VCALENDAR