BEGIN:VCALENDAR
VERSION:2.0
PRODID:-//Wayamo Foundation - ECPv6.0.13.1//NONSGML v1.0//EN
CALSCALE:GREGORIAN
METHOD:PUBLISH
X-WR-CALNAME:Wayamo Foundation
X-ORIGINAL-URL:https://www.wayamo.com
X-WR-CALDESC:Events for Wayamo Foundation
REFRESH-INTERVAL;VALUE=DURATION:PT1H
X-Robots-Tag:noindex
X-PUBLISHED-TTL:PT1H
BEGIN:VTIMEZONE
TZID:Europe/Berlin
BEGIN:DAYLIGHT
TZOFFSETFROM:+0100
TZOFFSETTO:+0200
TZNAME:CEST
DTSTART:20180325T010000
END:DAYLIGHT
BEGIN:STANDARD
TZOFFSETFROM:+0200
TZOFFSETTO:+0100
TZNAME:CET
DTSTART:20181028T010000
END:STANDARD
END:VTIMEZONE
BEGIN:VEVENT
DTSTART;VALUE=DATE:20180412
DTEND;VALUE=DATE:20180414
DTSTAMP:20260422T002008
CREATED:20180312T131014Z
LAST-MODIFIED:20181015T093528Z
UID:3605-1523491200-1523663999@www.wayamo.com
SUMMARY:Capacity building workshop and Joan Kagezi Memorial Lecture
DESCRIPTION:On 13 April\, Wayamo Foundation Director Bettina Ambach and Deputy Director Mark Kersten participated in the third annual Joan Kagezi Memorial Lecture on the theme of “Combating International and Transnational Organised Crime: Lessons Learnt and Best Practices”. The Wayamo Foundation had the privilege of co-organising the event with its partners in the Office of the Director of Public Prosecutions (DPP). The event celebrated the life of Joan Kagezi\, a senior prosecutor in Uganda’s International Crimes Division\, who was assassinated in March 2015. \nClick here for Memorial Lecture Report. \nThis event was preceded by a training workshop on 12 April with the focus on the fight against international and transnational organised crimes. In line with the Wayamo Foundation’s mandate and mission\, the aim of the workshop was to build local capacities in order to address core international crimes and transnational organised crimes domestically. This workshop was designed as part of Wayamo’s ongoing efforts to put the principle of complementarity into effective practice\, whilst simultaneously fostering co-operation between the international criminal justice community and national legal actors.
URL:https://www.wayamo.com/event/capacity-building-workshop-and-joan-kagezi-memorial-lecture/
LOCATION:kampala\, Uganda
ATTACH;FMTTYPE=image/jpeg:https://www.wayamo.com/wp-content/uploads/2018/04/635A0450.jpg
END:VEVENT
END:VCALENDAR