BEGIN:VCALENDAR
VERSION:2.0
PRODID:-//Wayamo Foundation - ECPv6.0.13.1//NONSGML v1.0//EN
CALSCALE:GREGORIAN
METHOD:PUBLISH
X-WR-CALNAME:Wayamo Foundation
X-ORIGINAL-URL:https://www.wayamo.com
X-WR-CALDESC:Events for Wayamo Foundation
REFRESH-INTERVAL;VALUE=DURATION:PT1H
X-Robots-Tag:noindex
X-PUBLISHED-TTL:PT1H
BEGIN:VTIMEZONE
TZID:Europe/Berlin
BEGIN:DAYLIGHT
TZOFFSETFROM:+0100
TZOFFSETTO:+0200
TZNAME:CEST
DTSTART:20170326T010000
END:DAYLIGHT
BEGIN:STANDARD
TZOFFSETFROM:+0200
TZOFFSETTO:+0100
TZNAME:CET
DTSTART:20171029T010000
END:STANDARD
END:VTIMEZONE
BEGIN:VEVENT
DTSTART;VALUE=DATE:20171121
DTEND;VALUE=DATE:20171122
DTSTAMP:20260422T193227
CREATED:20171002T091243Z
LAST-MODIFIED:20181015T093529Z
UID:2615-1511222400-1511308799@www.wayamo.com
SUMMARY:International Symposium in Kigali: "Fighting Impunity in East Africa"
DESCRIPTION:Over a three-day period from 20 to 22 November 2017\, Kigali\, Rwanda\, played host to the latest in the Wayamo Foundation’s series of East African international justice conferences aimed at exploring the current state of international criminal justice\, its links with transnational organised crime\, and national and regional efforts to deal with these crimes. The event was held thanks to the unstinting collaboration of the Rwandan Ministry of Justice and the financial support of the German Federal Foreign Office. \nAnother of the programme’s pillars was the following day’s intensive training session for investigators and prosecutors from Kenya\, Rwanda\, Tanzania and Uganda\, aimed at building competencies in the investigation and prosecution of international and transnational crimes domestically.  This model is purpose-designed to put the complementarity principle into practice\, while at the sometime fostering synergies between the international criminal justice community and national legal actors. \nHowever\, the pillar of greatest potential practical importance was arguably the second High-level Network Meeting of Directors of Public Prosecution and Heads of Criminal Investigation Departments from Kenya\, Tanzania\, Uganda and Rwanda on Monday 20 November\, aimed at strengthening the rule of law by ensuring effective investigation and prosecution of complex crimes and intensifying inter-agency collaboration at the regional level. It is intended that the network will have three main functions: (1) to serve as a mechanism for exchanging knowledge\, sharing policies\, tools\, templates and guidelines on topics such as witness protection\, witness interviewing\, arrest and extradition; (2) to enhance the working relationship between police and prosecutors during the course of investigations; and (3) to be an avenue for regional and cross-border collaboration and mutual legal assistance in international and transnational criminal cases.
URL:https://www.wayamo.com/event/international-symposium-in-kigali-fighting-impunity-in-east-africa/
LOCATION:Rwanda\, Kigali\, Rwanda
ATTACH;FMTTYPE=image/jpeg:https://www.wayamo.com/wp-content/uploads/2018/02/635A1349.jpg
END:VEVENT
END:VCALENDAR