BEGIN:VCALENDAR
VERSION:2.0
PRODID:-//Wayamo Foundation - ECPv6.0.13.1//NONSGML v1.0//EN
CALSCALE:GREGORIAN
METHOD:PUBLISH
X-WR-CALNAME:Wayamo Foundation
X-ORIGINAL-URL:https://www.wayamo.com
X-WR-CALDESC:Events for Wayamo Foundation
REFRESH-INTERVAL;VALUE=DURATION:PT1H
X-Robots-Tag:noindex
X-PUBLISHED-TTL:PT1H
BEGIN:VTIMEZONE
TZID:Europe/Berlin
BEGIN:DAYLIGHT
TZOFFSETFROM:+0100
TZOFFSETTO:+0200
TZNAME:CEST
DTSTART:20180325T010000
END:DAYLIGHT
BEGIN:STANDARD
TZOFFSETFROM:+0200
TZOFFSETTO:+0100
TZNAME:CET
DTSTART:20181028T010000
END:STANDARD
END:VTIMEZONE
BEGIN:VEVENT
DTSTART;TZID=Europe/Berlin:20180829T090000
DTEND;TZID=Europe/Berlin:20180829T170000
DTSTAMP:20260421T124803
CREATED:20180809T150333Z
LAST-MODIFIED:20181015T093816Z
UID:4049-1535533200-1535562000@www.wayamo.com
SUMMARY:South Africa and international criminal justice – the way forward
DESCRIPTION:At a crucial point in time\, when South Africa’s longstanding commitment to the International Criminal Court (ICC) hangs in the balance\, and many countries across Africa and other parts of the world are looking on with real interest at the direction it will take\, the Africa Group for Justice and Accountability (AGJA) and the Wayamo Foundation held a one-day public symposium in Cape Town on the issue. The event was made possible thanks to the combined generosity of the Swiss Federal Department of Foreign Affairs\, the German Federal Foreign Office\, the European Union\, and the Government of Canada. \nNot only did the symposium prove highly successful in bringing together a varied and prestigious group of international and local experts on international criminal justice\, non-governmental organisations\, academics\, practitioners and members of civil society\, but it also managed to address topics of pressing concern and importance\, ranging from “International Criminal Justice – The Road Ahead”\, “South Africa and the ICC – Where Now” and “The UNSC-ICC Relationship and Head of State Immunity” to “Thinking Outside the ICC Box: Domestic and Hybrid Justice for core international crimes”.
URL:https://www.wayamo.com/event/south-africa-and-international-criminal-justice-the-way-forward/
LOCATION:Cape Town\, 76 Orange St\, Gardens\, Cape Town\,\, 8001\, South Africa
ATTACH;FMTTYPE=image/png:https://www.wayamo.com/wp-content/uploads/2018/09/Screen-Shot-2018-09-03-at-15.19.39.png
END:VEVENT
END:VCALENDAR