BEGIN:VCALENDAR
VERSION:2.0
PRODID:-//Wayamo Foundation - ECPv6.0.13.1//NONSGML v1.0//EN
CALSCALE:GREGORIAN
METHOD:PUBLISH
X-ORIGINAL-URL:https://www.wayamo.com
X-WR-CALDESC:Events for Wayamo Foundation
REFRESH-INTERVAL;VALUE=DURATION:PT1H
X-Robots-Tag:noindex
X-PUBLISHED-TTL:PT1H
BEGIN:VTIMEZONE
TZID:Europe/Berlin
BEGIN:DAYLIGHT
TZOFFSETFROM:+0100
TZOFFSETTO:+0200
TZNAME:CEST
DTSTART:20170326T010000
END:DAYLIGHT
BEGIN:STANDARD
TZOFFSETFROM:+0200
TZOFFSETTO:+0100
TZNAME:CET
DTSTART:20171029T010000
END:STANDARD
END:VTIMEZONE
BEGIN:VEVENT
DTSTART;VALUE=DATE:20170327
DTEND;VALUE=DATE:20170329
DTSTAMP:20260424T014753
CREATED:20170320T160209Z
LAST-MODIFIED:20181015T093752Z
UID:2499-1490572800-1490745599@www.wayamo.com
SUMMARY:South African-German Justice Dialogue
DESCRIPTION:Taking place from 27 – 28 March 2017 in Pretoria\, South Africa\, the South African-German Justice Dialogue brought together South African\, German and international experts in the areas of international criminal law and human rights\, as well as 20 -25 participants\, including diplomats\, civil society representatives and academics. \nThe event has been organised by the Wayamo Foundation in cooperation with the German Federal Foreign Office. \n\n\n\nThe event commenced with welcoming remarks by Michael Koch\, Director-General\, Legal Department\, Federal Foreign Office\, Germany\, and the keynote speech delivered by Navi Pillay\, Former UN High Commissioner for Human Rights (see programme). 
URL:https://www.wayamo.com/event/south-african-german-justice-dialogue/
LOCATION:South Africa\, Pretoria
ATTACH;FMTTYPE=image/jpeg:https://www.wayamo.com/wp-content/uploads/2017/03/Navi-Pillay-AGJA-Member-Former-UN-High-Commissioner-for-Human-Rights.jpg
END:VEVENT
END:VCALENDAR